BEGIN:VCALENDAR
VERSION:2.0
PRODID:-//CVJM Langenberg e.V. - ECPv6.15.20//NONSGML v1.0//EN
CALSCALE:GREGORIAN
METHOD:PUBLISH
X-ORIGINAL-URL:https://cvjm-langenberg.de
X-WR-CALDESC:Veranstaltungen für CVJM Langenberg e.V.
REFRESH-INTERVAL;VALUE=DURATION:PT1H
X-Robots-Tag:noindex
X-PUBLISHED-TTL:PT1H
BEGIN:VTIMEZONE
TZID:Europe/Berlin
BEGIN:DAYLIGHT
TZOFFSETFROM:+0100
TZOFFSETTO:+0200
TZNAME:CEST
DTSTART:20250330T010000
END:DAYLIGHT
BEGIN:STANDARD
TZOFFSETFROM:+0200
TZOFFSETTO:+0100
TZNAME:CET
DTSTART:20251026T010000
END:STANDARD
BEGIN:DAYLIGHT
TZOFFSETFROM:+0100
TZOFFSETTO:+0200
TZNAME:CEST
DTSTART:20260329T010000
END:DAYLIGHT
BEGIN:STANDARD
TZOFFSETFROM:+0200
TZOFFSETTO:+0100
TZNAME:CET
DTSTART:20261025T010000
END:STANDARD
BEGIN:DAYLIGHT
TZOFFSETFROM:+0100
TZOFFSETTO:+0200
TZNAME:CEST
DTSTART:20270328T010000
END:DAYLIGHT
BEGIN:STANDARD
TZOFFSETFROM:+0200
TZOFFSETTO:+0100
TZNAME:CET
DTSTART:20271031T010000
END:STANDARD
END:VTIMEZONE
BEGIN:VEVENT
DTSTART;TZID=Europe/Berlin:20260125T150000
DTEND;TZID=Europe/Berlin:20260125T180000
DTSTAMP:20260423T163823
CREATED:20251213T175946Z
LAST-MODIFIED:20251213T175946Z
UID:491-1769353200-1769364000@cvjm-langenberg.de
SUMMARY:Spielenachmittag
DESCRIPTION:
URL:https://cvjm-langenberg.de/event/spielenachmittag/
LOCATION:Stadtteilzentrum\, Donnerstraße 1\, Velbert\, 42555\, Germany
ORGANIZER;CN="CVJM Langenberg e.V.":MAILTO:kontakt@cvjm-langenberg.de
END:VEVENT
END:VCALENDAR